BEGIN:VCALENDAR
VERSION:2.0
PRODID:-//ChamberMaster//Event Calendar 2.0//EN
METHOD:PUBLISH
X-PUBLISHED-TTL:P3D
REFRESH-INTERVAL:P3D
CALSCALE:GREGORIAN
BEGIN:VEVENT
DTSTART:20080508T170000Z
DTEND:20080508T170000Z
X-MICROSOFT-CDO-ALLDAYEVENT:FALSE
SUMMARY:Charity Golf Tournament Thursday May\, 8th Presented by Tomball Collision Center
DESCRIPTION:Tomball Collision\, Collision Express & AutoWatch would like to invite you to play in our golf tournament on May 8th\, 2008.  The charity to benefit from this tournament is Camp Mak-A-Dream\, a camp for children diagnosed with cancer and their families.  \n\nThe first TEN teams to register will be entered into an ?Early Bird Raffle?!  We will be giving away two rounds of golf (with cart and range) at Houston National Golf Club to two lucky winners!  You may email or fax your registration if you would like. Registration includes: Green Fees\, Cart\, Range\, Beverages\, Dinner and Prizes.  \n\nIf you have any questions or would like sponsorship information\, please do not hesitate to contact me.
X-ALT-DESC;FMTTYPE=text/html:Tomball Collision\, Collision Express & AutoWatch would like to invite you to play in our golf tournament on May 8th\, 2008.  The charity to benefit from this tournament is Camp Mak-A-Dream\, a camp for children diagnosed with cancer and their families.  \n\nThe first TEN teams to register will be entered into an ?Early Bird Raffle?!  We will be giving away two rounds of golf (with cart and range) at Houston National Golf Club to two lucky winners!  You may email or fax your registration if you would like. Registration includes: Green Fees\, Cart\, Range\, Beverages\, Dinner and Prizes.  \n\nIf you have any questions or would like sponsorship information\, please do not hesitate to contact me.\n
LOCATION:Houston National Golf Club
UID:e.155.2460
SEQUENCE:3
DTSTAMP:20260421T130920Z
URL:https://business.tomballchamber.org/events/details/charity-golf-tournament-thursday-may-8th-presented-by-tomball-collision-center-05-08-2008-2460
END:VEVENT

END:VCALENDAR
