BEGIN:VCALENDAR
VERSION:2.0
PRODID:-//ChamberMaster//Event Calendar 2.0//EN
METHOD:PUBLISH
X-PUBLISHED-TTL:P3D
REFRESH-INTERVAL:P3D
CALSCALE:GREGORIAN
BEGIN:VEVENT
DTSTART:20091121T160000Z
DTEND:20091121T181500Z
X-MICROSOFT-CDO-ALLDAYEVENT:FALSE
SUMMARY:Chaparral Genealogical Society Meeting
DESCRIPTION:Guest speaker\, Emily Croom will present "Sifting Through the Ashes: Research in Burned Counties.  When you're stuck in research\, are you at a dead end or are you simply frustrated and bewildered?  Strategies presented to tackle your challenge.\nVisitors are welcome to attend.
X-ALT-DESC;FMTTYPE=text/html:Guest speaker\, Emily Croom will present "Sifting Through the Ashes: Research in Burned Counties.  When you're stuck in research\, are you at a dead end or are you simply frustrated and bewildered?  Strategies presented to tackle your challenge.\nVisitors are welcome to attend.
LOCATION:Amegy Bank\, 2nd floor meeting area
UID:e.155.3125
SEQUENCE:3
DTSTAMP:20260420T052928Z
URL:https://business.tomballchamber.org/events/details/chaparral-genealogical-society-meeting-11-21-2009-3125
END:VEVENT

END:VCALENDAR
