BEGIN:VCALENDAR
VERSION:2.0
PRODID:-//ChamberMaster//Event Calendar 2.0//EN
METHOD:PUBLISH
X-PUBLISHED-TTL:P3D
REFRESH-INTERVAL:P3D
CALSCALE:GREGORIAN
BEGIN:VEVENT
DTSTART:20091112T180000Z
DTEND:20091112T190000Z
X-MICROSOFT-CDO-ALLDAYEVENT:FALSE
SUMMARY:Chamber of Commerce New Member Luncheon
DESCRIPTION:New Member LuncheonCome for a delicious lunch and to get to know other new members of the Chamber as well as staff members!
X-ALT-DESC;FMTTYPE=text/html:<div>New Member Luncheon</div><div>Come for a delicious lunch and to get to know other new members of the Chamber as well as staff members!</div>
LOCATION:Chamber of Commerce Board Room29201 Quinn Rd.\, Suite BTomball\, Texas 77375
UID:e.155.3115
SEQUENCE:3
DTSTAMP:20260420T053141Z
URL:https://business.tomballchamber.org/events/details/chamber-of-commerce-new-member-luncheon-11-12-2009-3115
END:VEVENT

END:VCALENDAR
