BEGIN:VCALENDAR
VERSION:2.0
PRODID:-//ChamberMaster//Event Calendar 2.0//EN
METHOD:PUBLISH
X-PUBLISHED-TTL:P3D
REFRESH-INTERVAL:P3D
CALSCALE:GREGORIAN
BEGIN:VEVENT
DTSTART:20080202T000000Z
DTEND:20080201T180000Z
X-MICROSOFT-CDO-ALLDAYEVENT:FALSE
SUMMARY:CHAIRMAN'S BALL - Book your table NOW !
DESCRIPTION:Reserve your table now for a fabulous evening of romance!Meet and recognize your 2007 Citizen of the Year Mr. Ron Haffneralong with your new Board of Directors !Delicious food\, music and dancing - book early for a great evening
X-ALT-DESC;FMTTYPE=text/html:<div>Reserve your table now for a fabulous evening of romance!</div><div>Meet and recognize your 2007 Citizen of the Year Mr. Ron Haffner</div><div>along with your new Board of Directors !</div><div>Delicious food\, music and dancing - book early for a great evening&nbsp\;</div>
LOCATION:Marriott Waterways - The WoodlandsResearch Forest Drive
UID:e.155.2379
SEQUENCE:3
DTSTAMP:20260421T200823Z
URL:https://business.tomballchamber.org/events/details/chairman-s-ball-book-your-table-now-02-01-2008-2379
END:VEVENT

END:VCALENDAR
