BEGIN:VCALENDAR
VERSION:2.0
PRODID:-//ChamberMaster//Event Calendar 2.0//EN
METHOD:PUBLISH
X-PUBLISHED-TTL:P3D
REFRESH-INTERVAL:P3D
CALSCALE:GREGORIAN
BEGIN:VEVENT
DTSTART:20071202T230000Z
DTEND:20071203T010000Z
X-MICROSOFT-CDO-ALLDAYEVENT:FALSE
SUMMARY:Centennial Birthday Celebration
DESCRIPTION:Tomball's 100 year Birthday CelebrationSpeaker 41st President George Bush
X-ALT-DESC;FMTTYPE=text/html:<div>Tomball's 100 year Birthday Celebration</div><div>Speaker 41st President George Bush</div>
LOCATION:Tomball High School Football Stadium30330 Quinn RoadTomball\, Texas
UID:e.155.2362
SEQUENCE:3
DTSTAMP:20260421T214247Z
URL:https://business.tomballchamber.org/events/details/centennial-birthday-celebration-12-02-2007-2362
END:VEVENT

END:VCALENDAR
