BEGIN:VCALENDAR
VERSION:2.0
PRODID:-//ChamberMaster//Event Calendar 2.0//EN
METHOD:PUBLISH
X-PUBLISHED-TTL:P3D
REFRESH-INTERVAL:P3D
CALSCALE:GREGORIAN
BEGIN:VEVENT
DTSTART:20070407T160000Z
DTEND:20070407T190000Z
X-MICROSOFT-CDO-ALLDAYEVENT:FALSE
SUMMARY:Capital One Bank - Car & Bike Show
DESCRIPTION:2nd Annual Car & Bike Show - Capital One\nFood and prizes awarded to winners
X-ALT-DESC;FMTTYPE=text/html:2nd Annual Car &amp\; Bike Show - Capital One<br />Food and prizes awarded to winners
LOCATION:Cy Fair Branch - Capital One Bank 25907 NW Freeway Cypress\, Texas 77429
UID:e.155.1663
SEQUENCE:3
DTSTAMP:20260422T104950Z
URL:https://business.tomballchamber.org/events/details/capital-one-bank-car-bike-show-04-07-2007-1663
END:VEVENT

END:VCALENDAR
