BEGIN:VCALENDAR
VERSION:2.0
PRODID:-//ChamberMaster//Event Calendar 2.0//EN
METHOD:PUBLISH
X-PUBLISHED-TTL:P3D
REFRESH-INTERVAL:P3D
CALSCALE:GREGORIAN
BEGIN:VEVENT
DTSTART:20071225T030000Z
DTEND:20071225T040000Z
X-MICROSOFT-CDO-ALLDAYEVENT:FALSE
SUMMARY:Candlemas Worship Service
DESCRIPTION:Christmas Eve Candlemas worship with Holy Communion.
X-ALT-DESC;FMTTYPE=text/html:Christmas Eve Candlemas worship with Holy Communion. 
LOCATION:Salem Worship Center
UID:e.155.2371
SEQUENCE:3
DTSTAMP:20260421T214353Z
URL:https://business.tomballchamber.org/events/details/candlemas-worship-service-12-24-2007-2371
END:VEVENT

END:VCALENDAR
