BEGIN:VCALENDAR
VERSION:2.0
PRODID:-//ChamberMaster//Event Calendar 2.0//EN
METHOD:PUBLISH
X-PUBLISHED-TTL:P3D
REFRESH-INTERVAL:P3D
CALSCALE:GREGORIAN
BEGIN:VEVENT
DTSTART:20080410T230000Z
DTEND:20080411T010000Z
X-MICROSOFT-CDO-ALLDAYEVENT:FALSE
SUMMARY:Candidate Forum - Tomball City Council Seats
DESCRIPTION:CIty of Tomball - Council SeatsCandidate ForrumDriver / Quinn / Mayes / Townsend
X-ALT-DESC;FMTTYPE=text/html:<div>CIty of Tomball - Council Seats</div><div>Candidate Forrum</div><div>Driver / Quinn / Mayes / Townsend</div>
LOCATION:Elmer Beckendorf COnference CenterTomball College - North entrance30555 Tomball Parkway
UID:e.155.2448
SEQUENCE:3
DTSTAMP:20260421T145930Z
URL:https://business.tomballchamber.org/events/details/candidate-forum-tomball-city-council-seats-04-10-2008-2448
END:VEVENT

END:VCALENDAR
