BEGIN:VCALENDAR
VERSION:2.0
PRODID:-//ChamberMaster//Event Calendar 2.0//EN
METHOD:PUBLISH
X-PUBLISHED-TTL:P3D
REFRESH-INTERVAL:P3D
CALSCALE:GREGORIAN
BEGIN:VEVENT
DTSTART:20070410T000000Z
DTEND:20070410T020000Z
X-MICROSOFT-CDO-ALLDAYEVENT:FALSE
SUMMARY:Candidate Forum
DESCRIPTION:Sponsored by the Greater Tomball Area Chamber of Commerce\, a public forum for candidates seeking election in the City of Tomball is set for Monday\, April 9\, 2007.  The candidates will have the opportunity to present their views and opinions as they answer questions posed by members of the local press.  The purpose of the assembly is to enlighten voters of the issues\, ideas\, and opinions of each individual campaign with fairness\, and to encourage eligible City of Tomball residents to become active voters.\n\nEvery candidate seeking office has been invited to attend this forum. The candidates for office are: Gretchen Fagan and Diane Holland\, seeking the office of Mayor of the City of Tomball\; and H.G. "Hap" Harrington\, Derek Townsend and Bill Webb\, running for Position 3 on City Council.
X-ALT-DESC;FMTTYPE=text/html:<p class="MsoNormal" style="MARGIN: 0in 0in 0pt"><font face="Times New Roman" size="3"><font face="Arial" size="2">Sponsored by the Greater Tomball Area Chamber of Commerce\, a public forum for candidates seeking election in the City of Tomball is set for Monday\, April 9\, 2007.&nbsp\; The candidates will have the opportunity to present their views and opinions as they answer questions posed by members of the local press.&nbsp\; The purpose of the assembly is to enlighten voters of the issues\, ideas\, and opinions of each individual campaign with fairness\, and to encourage eligible City of Tomball residents to become active voters.<br /></font><br /><font face="Arial" size="2">Every candidate seeking office has been invited to attend this forum.</font></font><o:p><font face="Times New Roman" size="3">&nbsp\;<font face="Arial" size="2">The candidates for office are: Gretchen Fagan and Diane Holland\, seeking the office of Mayor of the City of Tomball\; and H.G. &quot\;Hap&quot\; Harrington\, Derek Townsend and Bill Webb\, running for Position 3 on City Council.</font></font></o:p></p>
LOCATION:The forum will be held at the Elmer L. Beckendorf Convention Center at Tomball College\, located at 30555 Tomball Parkway\, Tomball\, TX 77375.
UID:e.155.2203
SEQUENCE:3
DTSTAMP:20260422T120532Z
URL:https://business.tomballchamber.org/events/details/candidate-forum-04-09-2007-2203
END:VEVENT

END:VCALENDAR
