BEGIN:VCALENDAR
VERSION:2.0
PRODID:-//ChamberMaster//Event Calendar 2.0//EN
METHOD:PUBLISH
X-PUBLISHED-TTL:P3D
REFRESH-INTERVAL:P3D
CALSCALE:GREGORIAN
BEGIN:VEVENT
DTSTART:20080213T000000Z
DTEND:20080213T020000Z
X-MICROSOFT-CDO-ALLDAYEVENT:FALSE
SUMMARY:Candidate Forum
DESCRIPTION:Candidate Forum -Corbin Van Arsdale and Allen FletcherPublic Welcome
X-ALT-DESC;FMTTYPE=text/html:<div>Candidate Forum -</div><div>Corbin Van Arsdale and Allen Fletcher</div><div>Public Welcome</div>
LOCATION:Tomball College - Elmer Beckendorf Conference Center
UID:e.155.2403
SEQUENCE:3
DTSTAMP:20260421T182401Z
URL:https://business.tomballchamber.org/events/details/candidate-forum-02-12-2008-2403
END:VEVENT

END:VCALENDAR
