BEGIN:VCALENDAR
VERSION:2.0
PRODID:-//ChamberMaster//Event Calendar 2.0//EN
METHOD:PUBLISH
X-PUBLISHED-TTL:P3D
REFRESH-INTERVAL:P3D
CALSCALE:GREGORIAN
BEGIN:VEVENT
DTSTART;VALUE=DATE:20070418
DTEND;VALUE=DATE:20070419
TRANSP:TRANSPARENT
X-MICROSOFT-CDO-ALLDAYEVENT:TRUE
SUMMARY:CANCELLED FOR APRIL - Resume in MAY -Tomball Emergency Task Prepardness Meeting
DESCRIPTION:Tomball Emergency Prepardness Committee
X-ALT-DESC;FMTTYPE=text/html:Tomball Emergency Prepardness Committee
LOCATION:Elmer Beckendorf Conference Center at the Tomball College
UID:e.155.1526
SEQUENCE:3
DTSTAMP:20260422T105057Z
URL:https://business.tomballchamber.org/events/details/cancelled-for-april-resume-in-may-tomball-emergency-task-prepardness-meeting-04-18-2007-1526
END:VEVENT

END:VCALENDAR
