BEGIN:VCALENDAR
VERSION:2.0
PRODID:-//ChamberMaster//Event Calendar 2.0//EN
METHOD:PUBLISH
X-PUBLISHED-TTL:P3D
REFRESH-INTERVAL:P3D
CALSCALE:GREGORIAN
BEGIN:VEVENT
DTSTART;VALUE=DATE:20070807
DTEND;VALUE=DATE:20070808
TRANSP:TRANSPARENT
X-MICROSOFT-CDO-ALLDAYEVENT:TRUE
SUMMARY:CANCELLED - Business After Hours -
DESCRIPTION:Business After HoursFirst Community Credit UnionTomball Parkway - Tomball
X-ALT-DESC;FMTTYPE=text/html:<div>Business After Hours</div><div>First Community Credit Union</div><div>Tomball Parkway - Tomball</div>
LOCATION:
UID:e.155.2298
SEQUENCE:3
DTSTAMP:20260422T060628Z
URL:https://business.tomballchamber.org/events/details/cancelled-business-after-hours-08-07-2007-2298
END:VEVENT

END:VCALENDAR
