BEGIN:VCALENDAR
VERSION:2.0
PRODID:-//ChamberMaster//Event Calendar 2.0//EN
METHOD:PUBLISH
X-PUBLISHED-TTL:P3D
REFRESH-INTERVAL:P3D
CALSCALE:GREGORIAN
BEGIN:VEVENT
DTSTART;VALUE=DATE:20080626
DTEND;VALUE=DATE:20080627
TRANSP:TRANSPARENT
X-MICROSOFT-CDO-ALLDAYEVENT:TRUE
SUMMARY:Butterfly Life Women's Fitness 1 Year Birthday Celebration
DESCRIPTION:Join us for our 1 Year Celebration!  Guest Speaker Dr. Kimberly Schroeder speaking on women's health.
X-ALT-DESC;FMTTYPE=text/html:Join us for our 1 Year Celebration!  Guest Speaker Dr. Kimberly Schroeder speaking on women's health.
LOCATION:14030 FM 2920\, at the corner of 2920 and 249 at Tomball's 4 corners
UID:e.155.2547
SEQUENCE:3
DTSTAMP:20260421T111558Z
URL:https://business.tomballchamber.org/events/details/butterfly-life-women-s-fitness-1-year-birthday-celebration-06-26-2008-2547
END:VEVENT

END:VCALENDAR
