BEGIN:VCALENDAR
VERSION:2.0
PRODID:-//ChamberMaster//Event Calendar 2.0//EN
METHOD:PUBLISH
X-PUBLISHED-TTL:P3D
REFRESH-INTERVAL:P3D
CALSCALE:GREGORIAN
BEGIN:VEVENT
DTSTART:20070614T230000Z
DTEND:20070615T003000Z
X-MICROSOFT-CDO-ALLDAYEVENT:FALSE
SUMMARY:Butterfly Life Open House Party
DESCRIPTION:Butterfly Life is a new women's gym in the Kroger Shopping center.  Stop by to check out our programs\, try our equipment and view or classes\, including step\, yoga\, pilates\, toning\, stretching and so much more.
X-ALT-DESC;FMTTYPE=text/html:Butterfly Life is a new women's gym in the Kroger Shopping center.  Stop by to check out our programs\, try our equipment and view or classes\, including step\, yoga\, pilates\, toning\, stretching and so much more.
LOCATION:Butterfly Life\, 14030 FM 2920\, suite F\; Tomball\, In the Kroger shopping center
UID:e.155.2256
SEQUENCE:3
DTSTAMP:20260422T075350Z
URL:https://business.tomballchamber.org/events/details/butterfly-life-open-house-party-06-14-2007-2256
END:VEVENT

END:VCALENDAR
