BEGIN:VCALENDAR
VERSION:2.0
PRODID:-//ChamberMaster//Event Calendar 2.0//EN
METHOD:PUBLISH
X-PUBLISHED-TTL:P3D
REFRESH-INTERVAL:P3D
CALSCALE:GREGORIAN
BEGIN:VEVENT
DTSTART:20070726T230000Z
DTEND:20070727T003000Z
X-MICROSOFT-CDO-ALLDAYEVENT:FALSE
SUMMARY:BUTTERFLY LIFE OPEN HOUSE
DESCRIPTION:Come experience our programs which include a 30- minute weight circuit\, 30- minute classes (yoga\, pilates\, step\, dance\, kick boxing\, toning\, stretching and more) and our 8-week nutritional course.  We will be featuring a lecture on Portion Control and the Butt\, Legs and Thighs class.  Come with your tennis shoes on and comfortable clothing.  See you there!
X-ALT-DESC;FMTTYPE=text/html:Come experience our programs which include a 30- minute weight circuit\, 30- minute classes (yoga\, pilates\, step\, dance\, kick boxing\, toning\, stretching and more) and our 8-week nutritional course.  We will be featuring a lecture on Portion Control and the Butt\, Legs and Thighs class.  Come with your tennis shoes on and comfortable clothing.  See you there!
LOCATION:14030 FM 2920\, Suite F\; Tomball 77377 In the NEW Krogers center at FM 2920 and HWY 249
UID:e.155.2270
SEQUENCE:3
DTSTAMP:20260422T073615Z
URL:https://business.tomballchamber.org/events/details/butterfly-life-open-house-07-26-2007-2270
END:VEVENT

END:VCALENDAR
