BEGIN:VCALENDAR
VERSION:2.0
PRODID:-//ChamberMaster//Event Calendar 2.0//EN
METHOD:PUBLISH
X-PUBLISHED-TTL:P3D
REFRESH-INTERVAL:P3D
CALSCALE:GREGORIAN
BEGIN:VEVENT
DTSTART:20080722T220000Z
DTEND:20080723T000000Z
X-MICROSOFT-CDO-ALLDAYEVENT:FALSE
SUMMARY:Business After Hours-Texas One Community Credit Union
DESCRIPTION:
X-ALT-DESC;FMTTYPE=text/html:
LOCATION:13730 Alice Rd. Tomball\, TX 77377
UID:e.155.2555
SEQUENCE:3
DTSTAMP:20260421T111128Z
URL:https://business.tomballchamber.org/events/details/business-after-hours-texas-one-community-credit-union-07-22-2008-2555
END:VEVENT

END:VCALENDAR
