BEGIN:VCALENDAR
VERSION:2.0
PRODID:-//ChamberMaster//Event Calendar 2.0//EN
METHOD:PUBLISH
X-PUBLISHED-TTL:P3D
REFRESH-INTERVAL:P3D
CALSCALE:GREGORIAN
BEGIN:VEVENT
DTSTART:20080226T230000Z
DTEND:20080227T010000Z
X-MICROSOFT-CDO-ALLDAYEVENT:FALSE
SUMMARY:Business After Hours - Texas Heritage Insurance Group
DESCRIPTION:Business After HoursTexas Heritage Insurance Group
X-ALT-DESC;FMTTYPE=text/html:<div>Business After Hours</div><div>Texas Heritage Insurance Group</div>
LOCATION:16910 FM 2920Tomball\, Texas 77377
UID:e.155.2385
SEQUENCE:3
DTSTAMP:20260421T182919Z
URL:https://business.tomballchamber.org/events/details/business-after-hours-texas-heritage-insurance-group-02-26-2008-2385
END:VEVENT

END:VCALENDAR
