BEGIN:VCALENDAR
VERSION:2.0
PRODID:-//ChamberMaster//Event Calendar 2.0//EN
METHOD:PUBLISH
X-PUBLISHED-TTL:P3D
REFRESH-INTERVAL:P3D
CALSCALE:GREGORIAN
BEGIN:VEVENT
DTSTART:20070925T220000Z
DTEND:20070926T000000Z
X-MICROSOFT-CDO-ALLDAYEVENT:FALSE
SUMMARY:Business After Hours - Stagecoach Children's Dental Center - Dr. Coe
DESCRIPTION:Stagecoach Children's Dental Center - Dr. Coe32931 Decker Prairie RoadMagnolia\, TX 77355281.259.5444will host Business After Hours
X-ALT-DESC;FMTTYPE=text/html:<div>Stagecoach Children's Dental Center - Dr. Coe</div><div>32931 Decker Prairie Road</div><div>Magnolia\, TX 77355</div><div>281.259.5444</div><div>will host Business After Hours</div>
LOCATION:32931 Decker Prairie RdMagnolia\, Texas
UID:e.155.2321
SEQUENCE:3
DTSTAMP:20260422T030300Z
URL:https://business.tomballchamber.org/events/details/business-after-hours-stagecoach-children-s-dental-center-dr-coe-09-25-2007-2321
END:VEVENT

END:VCALENDAR
