BEGIN:VCALENDAR
VERSION:2.0
PRODID:-//ChamberMaster//Event Calendar 2.0//EN
METHOD:PUBLISH
X-PUBLISHED-TTL:P3D
REFRESH-INTERVAL:P3D
CALSCALE:GREGORIAN
BEGIN:VEVENT
DTSTART:20070821T220000Z
DTEND:20070822T000000Z
X-MICROSOFT-CDO-ALLDAYEVENT:FALSE
SUMMARY:Business After Hours - Sam's Club
DESCRIPTION:Business After HoursSam's Club1960 & SH 249
X-ALT-DESC;FMTTYPE=text/html:<div>Business After Hours</div><div>Sam's Club</div><div>1960 &amp\; SH 249</div><div>&nbsp\;</div>
LOCATION:
UID:e.155.2299
SEQUENCE:3
DTSTAMP:20260422T045200Z
URL:https://business.tomballchamber.org/events/details/business-after-hours-sam-s-club-08-21-2007-2299
END:VEVENT

END:VCALENDAR
