BEGIN:VCALENDAR
VERSION:2.0
PRODID:-//ChamberMaster//Event Calendar 2.0//EN
METHOD:PUBLISH
X-PUBLISHED-TTL:P3D
REFRESH-INTERVAL:P3D
CALSCALE:GREGORIAN
BEGIN:VEVENT
DTSTART:20091110T230000Z
DTEND:20091111T010000Z
X-MICROSOFT-CDO-ALLDAYEVENT:FALSE
SUMMARY:Business After Hours - Parkway Chevrolet
DESCRIPTION:Parkway Chevrolet is hosting GTCC Business After HoursJoin other GTCC Members and guests for a Old Fashioned New Car Show!
X-ALT-DESC;FMTTYPE=text/html:<div>Parkway Chevrolet is hosting GTCC Business After Hours</div><div>Join other GTCC Members and guests for a Old Fashioned New Car Show!</div>
LOCATION:Parkway Chevrolet25500 SH 249Tomball\, Texas 77375
UID:e.155.3117
SEQUENCE:3
DTSTAMP:20260420T052832Z
URL:https://business.tomballchamber.org/events/details/business-after-hours-parkway-chevrolet-11-10-2009-3117
END:VEVENT

END:VCALENDAR
