BEGIN:VCALENDAR
VERSION:2.0
PRODID:-//ChamberMaster//Event Calendar 2.0//EN
METHOD:PUBLISH
X-PUBLISHED-TTL:P3D
REFRESH-INTERVAL:P3D
CALSCALE:GREGORIAN
BEGIN:VEVENT
DTSTART:20080208T230000Z
DTEND:20080208T230000Z
X-MICROSOFT-CDO-ALLDAYEVENT:FALSE
SUMMARY:Business After Hours - In The Garden Landscape
DESCRIPTION:Business After HoursIn The Garden LandscapeSH 249 - Magnolia
X-ALT-DESC;FMTTYPE=text/html:<div>Business After Hours</div><div>In The Garden Landscape</div><div>SH 249 - Magnolia</div>
LOCATION:
UID:e.155.2384
SEQUENCE:3
DTSTAMP:20260421T201122Z
URL:https://business.tomballchamber.org/events/details/business-after-hours-in-the-garden-landscape-02-08-2008-2384
END:VEVENT

END:VCALENDAR
