BEGIN:VCALENDAR
VERSION:2.0
PRODID:-//ChamberMaster//Event Calendar 2.0//EN
METHOD:PUBLISH
X-PUBLISHED-TTL:P3D
REFRESH-INTERVAL:P3D
CALSCALE:GREGORIAN
BEGIN:VEVENT
DTSTART:20070626T220000Z
DTEND:20070627T000000Z
X-MICROSOFT-CDO-ALLDAYEVENT:FALSE
SUMMARY:Business After Hours hosted by LogoSmart
DESCRIPTION:
X-ALT-DESC;FMTTYPE=text/html:
LOCATION:308 West Main Street in Tomball
UID:e.155.2254
SEQUENCE:3
DTSTAMP:20260422T075426Z
URL:https://business.tomballchamber.org/events/details/business-after-hours-hosted-by-logosmart-06-26-2007-2254
END:VEVENT

END:VCALENDAR
