BEGIN:VCALENDAR
VERSION:2.0
PRODID:-//ChamberMaster//Event Calendar 2.0//EN
METHOD:PUBLISH
X-PUBLISHED-TTL:P3D
REFRESH-INTERVAL:P3D
CALSCALE:GREGORIAN
BEGIN:VEVENT
DTSTART:20080506T220000Z
DTEND:20080507T000000Z
X-MICROSOFT-CDO-ALLDAYEVENT:FALSE
SUMMARY:Business After Hours - Hilton Garden Inn
DESCRIPTION:Business After HoursHilton Garden Inn5 - 7 p.m.
X-ALT-DESC;FMTTYPE=text/html:<div>Business After Hours</div><div>Hilton Garden Inn</div><div>5 - 7 p.m.</div>
LOCATION:
UID:e.155.2471
SEQUENCE:3
DTSTAMP:20260421T150240Z
URL:https://business.tomballchamber.org/events/details/business-after-hours-hilton-garden-inn-05-06-2008-2471
END:VEVENT

END:VCALENDAR
