BEGIN:VCALENDAR
VERSION:2.0
PRODID:-//ChamberMaster//Event Calendar 2.0//EN
METHOD:PUBLISH
X-PUBLISHED-TTL:P3D
REFRESH-INTERVAL:P3D
CALSCALE:GREGORIAN
BEGIN:VEVENT
DTSTART:20080520T220000Z
DTEND:20080521T000000Z
X-MICROSOFT-CDO-ALLDAYEVENT:FALSE
SUMMARY:Business After Hours - Edenbrook @ Champions
DESCRIPTION:Business After Hours4:30 pm - 5:00 pm - TOUR at Assisted Living and Alzheimers Care CommunityEdenbrook @ Champions 5 - 7 pm - Join us for Happy Hour just down the road at County Line BBQ\, 13850 Cutten Road\, Houston 77369Appetizers\, Sodas and Beer will be avilable compliments of Edenbrook of Champions.Happy Hour Special from County Line BBQ - $3 Frozen margaritas
X-ALT-DESC;FMTTYPE=text/html:<div>Business After Hours</div><div>4:30 pm - 5:00 pm - TOUR at Assisted Living and Alzheimers Care Community</div><div>Edenbrook @ Champions</div><div>&nbsp\;</div><div>5 - 7 pm - Join us for Happy Hour just down the road at County Line BBQ\, 13850 Cutten Road\, Houston 77369</div><div>Appetizers\, Sodas and Beer will be avilable compliments of Edenbrook of Champions.</div><div>Happy Hour Special from County Line BBQ - $3 Frozen margaritas</div>
LOCATION:
UID:e.155.2486
SEQUENCE:3
DTSTAMP:20260421T130506Z
URL:https://business.tomballchamber.org/events/details/business-after-hours-edenbrook-champions-05-20-2008-2486
END:VEVENT

END:VCALENDAR
