BEGIN:VCALENDAR
VERSION:2.0
PRODID:-//ChamberMaster//Event Calendar 2.0//EN
METHOD:PUBLISH
X-PUBLISHED-TTL:P3D
REFRESH-INTERVAL:P3D
CALSCALE:GREGORIAN
BEGIN:VEVENT
DTSTART:20080422T220000Z
DTEND:20080423T000000Z
X-MICROSOFT-CDO-ALLDAYEVENT:FALSE
SUMMARY:Business After Hours - Cypress Creek YMCA
DESCRIPTION:Cypress Creek Family YMCABusiness After Hours
X-ALT-DESC;FMTTYPE=text/html:<div>Cypress Creek Family YMCA</div><div>Business After Hours</div>
LOCATION:Tomball ParkwayCYpress Creek Family YMCA
UID:e.155.2468
SEQUENCE:3
DTSTAMP:20260421T164240Z
URL:https://business.tomballchamber.org/events/details/business-after-hours-cypress-creek-ymca-04-22-2008-2468
END:VEVENT

END:VCALENDAR
