BEGIN:VCALENDAR
VERSION:2.0
PRODID:-//ChamberMaster//Event Calendar 2.0//EN
METHOD:PUBLISH
X-PUBLISHED-TTL:P3D
REFRESH-INTERVAL:P3D
CALSCALE:GREGORIAN
BEGIN:VEVENT
DTSTART:20071023T220000Z
DTEND:20071024T000000Z
X-MICROSOFT-CDO-ALLDAYEVENT:FALSE
SUMMARY:Business After Hours - Courtyard by Marriott Houston Northwest
DESCRIPTION:Business After HoursCourtyard By Marriott
X-ALT-DESC;FMTTYPE=text/html:<div>Business After Hours</div><div>Courtyard By Marriott</div>
LOCATION:Courtyard By Marriott Houston Northwest11050 Louetta Rd
UID:e.155.2341
SEQUENCE:3
DTSTAMP:20260422T011502Z
URL:https://business.tomballchamber.org/events/details/business-after-hours-courtyard-by-marriott-houston-northwest-10-23-2007-2341
END:VEVENT

END:VCALENDAR
