BEGIN:VCALENDAR
VERSION:2.0
PRODID:-//ChamberMaster//Event Calendar 2.0//EN
METHOD:PUBLISH
X-PUBLISHED-TTL:P3D
REFRESH-INTERVAL:P3D
CALSCALE:GREGORIAN
BEGIN:VEVENT
DTSTART:20080115T230000Z
DTEND:20080116T010000Z
X-MICROSOFT-CDO-ALLDAYEVENT:FALSE
SUMMARY:Business After Hours - Butterfly Life
DESCRIPTION:Butterfly Life - Business After Hours14030 FM 2920 ( New Kroger Shopping Center)
X-ALT-DESC;FMTTYPE=text/html:<div>Butterfly Life - Business After Hours</div><div>14030 FM 2920 ( New Kroger Shopping Center)</div><div>&nbsp\;</div>
LOCATION:
UID:e.155.2378
SEQUENCE:3
DTSTAMP:20260421T214614Z
URL:https://business.tomballchamber.org/events/details/business-after-hours-butterfly-life-01-15-2008-2378
END:VEVENT

END:VCALENDAR
