BEGIN:VCALENDAR
VERSION:2.0
PRODID:-//ChamberMaster//Event Calendar 2.0//EN
METHOD:PUBLISH
X-PUBLISHED-TTL:P3D
REFRESH-INTERVAL:P3D
CALSCALE:GREGORIAN
BEGIN:VEVENT
DTSTART:20080708T220000Z
DTEND:20080709T000000Z
X-MICROSOFT-CDO-ALLDAYEVENT:FALSE
SUMMARY:Business After Hours at DR Horton America's Builder
DESCRIPTION:
X-ALT-DESC;FMTTYPE=text/html:
LOCATION:Directions from Tomball: Take 249 South to Northpointe Blvd and turn right. Follow Northpointe Blvd to the end of the street (1.8 miles) and turn left on Northpointe Ridge Lane. Turn left on Northwood Glen Lane and right on Bristol Point Lane. Model Home is on the left. 18626 Bristol Pointe Lane\, Tomball\, TX 77377
UID:e.155.2546
SEQUENCE:3
DTSTAMP:20260421T100224Z
URL:https://business.tomballchamber.org/events/details/business-after-hours-at-dr-horton-america-s-builder-07-08-2008-2546
END:VEVENT

END:VCALENDAR
