BEGIN:VCALENDAR
VERSION:2.0
PRODID:-//ChamberMaster//Event Calendar 2.0//EN
METHOD:PUBLISH
X-PUBLISHED-TTL:P3D
REFRESH-INTERVAL:P3D
CALSCALE:GREGORIAN
BEGIN:VEVENT
DTSTART:20080923T220000Z
DTEND:20080924T000000Z
X-MICROSOFT-CDO-ALLDAYEVENT:FALSE
SUMMARY:Business After Hours
DESCRIPTION:Tail Gate Party Hosted by Tomball Ford Kicking Off Fall!  Come Join The Fun!
X-ALT-DESC;FMTTYPE=text/html:<div>Tail Gate Party Hosted by Tomball Ford Kicking Off Fall! &nbsp\;Come Join The Fun!</div>
LOCATION:Tomball Ford 22702 State Hwy 249 Tomball\, TX. 77375
UID:e.155.2589
SEQUENCE:3
DTSTAMP:20260421T083848Z
URL:https://business.tomballchamber.org/events/details/business-after-hours-09-23-2008-2589
END:VEVENT

END:VCALENDAR
