BEGIN:VCALENDAR
VERSION:2.0
PRODID:-//ChamberMaster//Event Calendar 2.0//EN
METHOD:PUBLISH
X-PUBLISHED-TTL:P3D
REFRESH-INTERVAL:P3D
CALSCALE:GREGORIAN
BEGIN:VEVENT
DTSTART;VALUE=DATE:20070505
DTEND;VALUE=DATE:20070506
TRANSP:TRANSPARENT
X-MICROSOFT-CDO-ALLDAYEVENT:TRUE
SUMMARY:Brookshire Brothers Job Fair
DESCRIPTION:Brookshire Brothers is now hiring for Magnolia\, Montgomery\,Spring and Conroe locations. We will be recruiting qualified candidates for all positions including entry level management. Job Fair will be held Saturday\, May 5th from 9AM to 5:00PM at the Brookshire Brothers Montgomery location located at 1005 Eva Street. Managers will be on site to interview and hire. Pre Employment drug test and background screen required.
X-ALT-DESC;FMTTYPE=text/html:Brookshire Brothers is now hiring for Magnolia\, Montgomery\,Spring and Conroe locations. We will be recruiting qualified candidates for all positions including entry level management. Job Fair will be held Saturday\, May 5th from 9AM to 5:00PM at the Brookshire Brothers Montgomery location located at 1005 Eva Street. Managers will be on site to interview and hire. Pre Employment drug test and background screen required. 
LOCATION:1005 Eva Street Montgomery\, TX
UID:e.155.2230
SEQUENCE:3
DTSTAMP:20260422T104950Z
URL:https://business.tomballchamber.org/events/details/brookshire-brothers-job-fair-05-05-2007-2230
END:VEVENT

END:VCALENDAR
