BEGIN:VCALENDAR
VERSION:2.0
PRODID:-//ChamberMaster//Event Calendar 2.0//EN
METHOD:PUBLISH
X-PUBLISHED-TTL:P3D
REFRESH-INTERVAL:P3D
CALSCALE:GREGORIAN
BEGIN:VEVENT
DTSTART;VALUE=DATE:20070414
DTEND;VALUE=DATE:20070415
TRANSP:TRANSPARENT
X-MICROSOFT-CDO-ALLDAYEVENT:TRUE
SUMMARY:Boys & Girls Country Spring Festival
DESCRIPTION:Boys & Girls Country Spring Festival\nraffles\, auction items\, games\, food
X-ALT-DESC;FMTTYPE=text/html:Boys &amp\; Girls Country Spring Festival<br />raffles\, auction items\, games\, food
LOCATION:Boys & Girls Country 18806 Roberts Road Hockley\, Texas 77447 281.351.4976
UID:e.155.1361
SEQUENCE:3
DTSTAMP:20260422T105129Z
URL:https://business.tomballchamber.org/events/details/boys-girls-country-spring-festival-04-14-2007-1361
END:VEVENT

END:VCALENDAR
