BEGIN:VCALENDAR
VERSION:2.0
PRODID:-//ChamberMaster//Event Calendar 2.0//EN
METHOD:PUBLISH
X-PUBLISHED-TTL:P3D
REFRESH-INTERVAL:P3D
CALSCALE:GREGORIAN
BEGIN:VEVENT
DTSTART:20230615T140000Z
DTEND:20230615T160000Z
X-MICROSOFT-CDO-ALLDAYEVENT:FALSE
SUMMARY:Boosting Your Business with AI Strategies and Techniques
DESCRIPTION:Join us for an informative session on how artificial intelligence (AI) can transform your business. Our expert speakers will discuss the latest trends\, tools\, and techniques for leveraging AI to improve efficiency\, reduce costs and enhance customer experiences.
X-ALT-DESC;FMTTYPE=text/html:Join us for an informative session on how artificial intelligence (AI) can transform your business. Our expert speakers will discuss the latest trends\, tools\, and techniques for leveraging AI to improve efficiency\, reduce costs and enhance customer experiences.
LOCATION:33219 Forest West St. Magnolia\, Texas 77354
UID:e.155.37992
SEQUENCE:3
DTSTAMP:20260420T045137Z
URL:https://business.tomballchamber.org/events/details/boosting-your-business-with-ai-strategies-and-techniques-37992
END:VEVENT

END:VCALENDAR
