BEGIN:VCALENDAR
VERSION:2.0
PRODID:-//ChamberMaster//Event Calendar 2.0//EN
METHOD:PUBLISH
X-PUBLISHED-TTL:P3D
REFRESH-INTERVAL:P3D
CALSCALE:GREGORIAN
BEGIN:VEVENT
DTSTART:20070526T153000Z
DTEND:20070526T163000Z
X-MICROSOFT-CDO-ALLDAYEVENT:FALSE
SUMMARY:Birds of the Bayou
DESCRIPTION:Discover why Houston is one of the ?birdiest? cities in the country with this fascinating presentation by the Houston Audubon Society featuring live owls and hawks.
X-ALT-DESC;FMTTYPE=text/html:Discover why Houston is one of the ?birdiest? cities in the country with this fascinating presentation by the Houston Audubon Society featuring live owls and hawks.  
LOCATION:First floor Meeting Room of the Tomball College & Community Library
UID:e.155.2208
SEQUENCE:3
DTSTAMP:20260422T104853Z
URL:https://business.tomballchamber.org/events/details/birds-of-the-bayou-05-26-2007-2208
END:VEVENT

END:VCALENDAR
