BEGIN:VCALENDAR
VERSION:2.0
PRODID:-//ChamberMaster//Event Calendar 2.0//EN
METHOD:PUBLISH
X-PUBLISHED-TTL:P3D
REFRESH-INTERVAL:P3D
CALSCALE:GREGORIAN
BEGIN:VEVENT
DTSTART:20070922T130000Z
DTEND:20070922T130000Z
X-MICROSOFT-CDO-ALLDAYEVENT:FALSE
SUMMARY:Birdies for Babies Golf Tournament
DESCRIPTION:Baby and Me\, a home for pregnant teens and teenage moms\, in Magnolia\, is having its 2nd annual Golf Tournament Fundraiser on September 22\, 2007.  Scramble with a shotgun start at 8:00am at the High Meadow Ranch Golf Club.  Many sponsorship levels available.
X-ALT-DESC;FMTTYPE=text/html:Baby and Me\, a home for pregnant teens and teenage moms\, in Magnolia\, is having its 2nd annual Golf Tournament Fundraiser on September 22\, 2007.  Scramble with a shotgun start at 8:00am at the High Meadow Ranch Golf Club.  Many sponsorship levels available.  
LOCATION:High Meadow Ranch Golf Club
UID:e.155.2304
SEQUENCE:3
DTSTAMP:20260422T044026Z
URL:https://business.tomballchamber.org/events/details/birdies-for-babies-golf-tournament-09-22-2007-2304
END:VEVENT

END:VCALENDAR
