BEGIN:VCALENDAR
VERSION:2.0
PRODID:-//ChamberMaster//Event Calendar 2.0//EN
METHOD:PUBLISH
X-PUBLISHED-TTL:P3D
REFRESH-INTERVAL:P3D
CALSCALE:GREGORIAN
BEGIN:VEVENT
DTSTART;VALUE=DATE:20070505
DTEND;VALUE=DATE:20070506
TRANSP:TRANSPARENT
X-MICROSOFT-CDO-ALLDAYEVENT:TRUE
SUMMARY:Biker For Benefit - Debbie (Graham) Groda
DESCRIPTION:Debbie (Graham) Groda Benefit - Bikers For Benefit\nDebbie was diagnosed with Leukemia in 2000. She recived a bone marrow transplant in 2001. Currently she is undergoing treatment for infection in the lungs.  Debbie has reached her million dollar insurance quota and now all funds are out of pocket.
X-ALT-DESC;FMTTYPE=text/html:Debbie (Graham) Groda Benefit - Bikers For Benefit<br />Debbie was diagnosed with Leukemia in 2000. She recived a bone marrow transplant in 2001. Currently she is undergoing treatment for infection in the lungs.&nbsp\; Debbie has reached her million dollar insurance quota and now all funds are out of pocket.
LOCATION:VFW Post 8905 - Cypress Texas 21902 Hempstead Hwy 290 (between Huffmeister and Telge Rd) 11 am - 5 pm Live Auction at 3:00 Silent Auction 11 - 3 1st Bike out 10:30 a.m. - Lakst Bike in at 2:30 p.m.
UID:e.155.1662
SEQUENCE:3
DTSTAMP:20260422T091410Z
URL:https://business.tomballchamber.org/events/details/biker-for-benefit-debbie-graham-groda-05-05-2007-1662
END:VEVENT

END:VCALENDAR
