BEGIN:VCALENDAR
VERSION:2.0
PRODID:-//ChamberMaster//Event Calendar 2.0//EN
METHOD:PUBLISH
X-PUBLISHED-TTL:P3D
REFRESH-INTERVAL:P3D
CALSCALE:GREGORIAN
BEGIN:VEVENT
DTSTART:20080909T220000Z
DTEND:20080910T000000Z
X-MICROSOFT-CDO-ALLDAYEVENT:FALSE
SUMMARY:BAH at Woodforest National Bank
DESCRIPTION:Business after hours!
X-ALT-DESC;FMTTYPE=text/html:Business after hours!
LOCATION:Woodforest National Bank14235 FM 2920Tomball\, 77377
UID:e.155.2580
SEQUENCE:3
DTSTAMP:20260421T084339Z
URL:https://business.tomballchamber.org/events/details/bah-at-woodforest-national-bank-09-09-2008-2580
END:VEVENT

END:VCALENDAR
