BEGIN:VCALENDAR
VERSION:2.0
PRODID:-//ChamberMaster//Event Calendar 2.0//EN
METHOD:PUBLISH
X-PUBLISHED-TTL:P3D
REFRESH-INTERVAL:P3D
CALSCALE:GREGORIAN
BEGIN:VEVENT
DTSTART:20070722T000000Z
DTEND:20070722T030000Z
X-MICROSOFT-CDO-ALLDAYEVENT:FALSE
SUMMARY:Arena Football - Tomball Chamber Night!!
DESCRIPTION:Come join the Tomball Chamber for Arena Football at the Berry Center\n1/2 price tickets are available to you for this special night!\nEmaill Tiffany at    tangie@texascopperheads.com\nto reserve your space today.  For tickets\, leave name\, telephone #\, company\, and number of seats.\nLet's bring all of Tomball out for a great big party and Cheer\non the Copperheads!!!!!!
X-ALT-DESC;FMTTYPE=text/html:Come join the Tomball Chamber for Arena Football at the Berry Center<br />1/2 price tickets are available to you for this special night!<br />Emaill Tiffany at&nbsp\;&nbsp\;&nbsp\; <a href="mailto:tangie@texascopperheads.com">tangie@texascopperheads.com</a><br />to reserve your space today.&nbsp\;&nbsp\;For tickets\, leave name\, telephone #\, company\, and number of seats.<br />Let&rsquo\;s bring all of Tomball out for a great big party and Cheer<br />on the Copperheads!!!!!!
LOCATION:Berry E. Center Cypress\, Texas Home of the Texas Copperheads and Arena Football
UID:e.155.2255
SEQUENCE:3
DTSTAMP:20260422T061611Z
URL:https://business.tomballchamber.org/events/details/arena-football-tomball-chamber-night-07-21-2007-2255
END:VEVENT

END:VCALENDAR
