BEGIN:VCALENDAR
VERSION:2.0
PRODID:-//ChamberMaster//Event Calendar 2.0//EN
METHOD:PUBLISH
X-PUBLISHED-TTL:P3D
REFRESH-INTERVAL:P3D
CALSCALE:GREGORIAN
BEGIN:VEVENT
DTSTART:20080420T190000Z
DTEND:20080420T210000Z
X-MICROSOFT-CDO-ALLDAYEVENT:FALSE
SUMMARY:Annual Heritage Tea - honoring the Klein Brothers
DESCRIPTION:Heritage TeaHonoring the Klein Brothers\, A.B.\, George and Alvin
X-ALT-DESC;FMTTYPE=text/html:<div>Heritage Tea</div><div>Honoring the Klein Brothers\, A.B.\, George and Alvin</div><div>&nbsp\;</div>
LOCATION:Tomball Museum Center510 North Pine StreetTomball\, Texas 77375281.255.2148
UID:e.155.2407
SEQUENCE:3
DTSTAMP:20260421T150808Z
URL:https://business.tomballchamber.org/events/details/annual-heritage-tea-honoring-the-klein-brothers-04-20-2008-2407
END:VEVENT

END:VCALENDAR
