BEGIN:VCALENDAR
VERSION:2.0
PRODID:-//ChamberMaster//Event Calendar 2.0//EN
METHOD:PUBLISH
X-PUBLISHED-TTL:P3D
REFRESH-INTERVAL:P3D
CALSCALE:GREGORIAN
BEGIN:VEVENT
DTSTART:20070815T223000Z
DTEND:20070816T003000Z
X-MICROSOFT-CDO-ALLDAYEVENT:FALSE
SUMMARY:Annual Business Expo & Family Fun Night
DESCRIPTION:The Great Northwest Houston Convention & Visitors Bureau Annual Business Expo & Family Fun Night Vacation in Your Own Back Yard!
X-ALT-DESC;FMTTYPE=text/html:<div style="margin: 0in 0in 0pt"><strong><span style="font-size: 18pt\; color: red">The </span></strong><strong><span style="font-size: 18pt\; color: green">Great Northwest Houston Convention &amp\; Visitors Bureau</span></strong></div><div style="margin: 0in 0in 0pt"><strong><span style="font-size: 18pt\; color: green">&nbsp\;</span></strong><strong><span style="font-size: 18pt\; color: red">Annual Business Expo &amp\; Family Fun Night</span></strong></div><div><strong><span style="font-size: 20pt\; color: #ff6600">&nbsp\;</span><span style="font-size: 12pt\; color: blue">Vacation in Your Own Back Yard!</span></strong></div>
LOCATION:Mountasia\, 17190 SH 249
UID:e.155.2288
SEQUENCE:3
DTSTAMP:20260422T045546Z
URL:https://business.tomballchamber.org/events/details/annual-business-expo-family-fun-night-08-15-2007-2288
END:VEVENT

END:VCALENDAR
