BEGIN:VCALENDAR
VERSION:2.0
PRODID:-//ChamberMaster//Event Calendar 2.0//EN
METHOD:PUBLISH
X-PUBLISHED-TTL:P3D
REFRESH-INTERVAL:P3D
CALSCALE:GREGORIAN
BEGIN:VEVENT
DTSTART:20071030T170000Z
DTEND:20071030T180000Z
X-MICROSOFT-CDO-ALLDAYEVENT:FALSE
SUMMARY:Ambassdor Meeting
DESCRIPTION:Ambassador MeetingChamber Board RoomNoon - Bring your sack lunch
X-ALT-DESC;FMTTYPE=text/html:<div>Ambassador Meeting</div><div>Chamber Board Room</div><div>Noon - Bring your sack lunch</div>
LOCATION:
UID:e.155.2355
SEQUENCE:3
DTSTAMP:20260422T011330Z
URL:https://business.tomballchamber.org/events/details/ambassdor-meeting-10-30-2007-2355
END:VEVENT

END:VCALENDAR
