BEGIN:VCALENDAR
VERSION:2.0
PRODID:-//ChamberMaster//Event Calendar 2.0//EN
METHOD:PUBLISH
X-PUBLISHED-TTL:P3D
REFRESH-INTERVAL:P3D
CALSCALE:GREGORIAN
BEGIN:VEVENT
DTSTART:20230131T180000Z
DTEND:20230131T190000Z
X-MICROSOFT-CDO-ALLDAYEVENT:FALSE
SUMMARY:Ambassadors Meeting
DESCRIPTION:Ambassadors - Join us to get updates on chamber and community activities\, as well discuss upcoming events and opportunities.
X-ALT-DESC;FMTTYPE=text/html:Ambassadors - Join us to get updates on chamber and community activities\, as well discuss upcoming events and opportunities.&nbsp\;
LOCATION:Chamber Board Room 29201 Quinn Rd. Tomball. TX 77375
UID:e.155.37827
SEQUENCE:3
DTSTAMP:20260420T134355Z
URL:https://business.tomballchamber.org/events/details/ambassadors-meeting-37827
END:VEVENT

END:VCALENDAR
