BEGIN:VCALENDAR
VERSION:2.0
PRODID:-//ChamberMaster//Event Calendar 2.0//EN
METHOD:PUBLISH
X-PUBLISHED-TTL:P3D
REFRESH-INTERVAL:P3D
CALSCALE:GREGORIAN
BEGIN:VEVENT
DTSTART:20071002T170000Z
DTEND:20071002T180000Z
X-MICROSOFT-CDO-ALLDAYEVENT:FALSE
SUMMARY:Ambassador Meeting
DESCRIPTION:Monthly Ambassador Meeting
X-ALT-DESC;FMTTYPE=text/html:<div>Monthly Ambassador Meeting</div>
LOCATION:Chamber Board Room - 2nd Floor14011 Park Drive
UID:e.155.2323
SEQUENCE:3
DTSTAMP:20260422T011330Z
URL:https://business.tomballchamber.org/events/details/ambassador-meeting-10-02-2007-2323
END:VEVENT

END:VCALENDAR
