BEGIN:VCALENDAR
VERSION:2.0
PRODID:-//ChamberMaster//Event Calendar 2.0//EN
METHOD:PUBLISH
X-PUBLISHED-TTL:P3D
REFRESH-INTERVAL:P3D
CALSCALE:GREGORIAN
BEGIN:VEVENT
DTSTART:20070904T170000Z
DTEND:20070904T180000Z
X-MICROSOFT-CDO-ALLDAYEVENT:FALSE
SUMMARY:Ambassador Meeting
DESCRIPTION:Ambassador Meeting
X-ALT-DESC;FMTTYPE=text/html:Ambassador Meeting
LOCATION:Tomball Chamber Board Room
UID:e.155.2266
SEQUENCE:3
DTSTAMP:20260422T025814Z
URL:https://business.tomballchamber.org/events/details/ambassador-meeting-09-04-2007-2266
END:VEVENT

END:VCALENDAR
