BEGIN:VCALENDAR
VERSION:2.0
PRODID:-//ChamberMaster//Event Calendar 2.0//EN
METHOD:PUBLISH
X-PUBLISHED-TTL:P3D
REFRESH-INTERVAL:P3D
CALSCALE:GREGORIAN
BEGIN:VEVENT
DTSTART:20070709T171500Z
DTEND:20070709T180000Z
X-MICROSOFT-CDO-ALLDAYEVENT:FALSE
SUMMARY:Ambassador Meeting
DESCRIPTION:Ambassador Meeting
X-ALT-DESC;FMTTYPE=text/html:Ambassador Meeting
LOCATION:Tomball Chamber Board Room
UID:e.155.2262
SEQUENCE:3
DTSTAMP:20260422T061159Z
URL:https://business.tomballchamber.org/events/details/ambassador-meeting-07-09-2007-2262
END:VEVENT

END:VCALENDAR
