BEGIN:VCALENDAR
VERSION:2.0
PRODID:-//ChamberMaster//Event Calendar 2.0//EN
METHOD:PUBLISH
X-PUBLISHED-TTL:P3D
REFRESH-INTERVAL:P3D
CALSCALE:GREGORIAN
BEGIN:VEVENT
DTSTART:20070403T050000Z
DTEND:20070403T180000Z
X-MICROSOFT-CDO-ALLDAYEVENT:FALSE
SUMMARY:Ambassador Meeting
DESCRIPTION:Monthly Ambassador Meeting \nWorking Lunch - Bring your own sack lunch \n\nWe would normally have the meeting the Tuesday\,\nbefore the first Friday Luncheon\, and the luncheon will be the second Friday this month.\nHowever\, We will still hold our meeting on the Tuesday before the FIRST friday.
X-ALT-DESC;FMTTYPE=text/html:Monthly Ambassador Meeting&nbsp\;<br />Working Lunch - Bring your own sack lunch&nbsp\;<br /><br />We would normally have the meeting the Tuesday\,<br />before the first Friday Luncheon\, and the luncheon will be the second Friday this month.<br />However\, We will still hold our meeting on the Tuesday before the FIRST friday.<br />
LOCATION:Tomball Chamber Board Room 2nd Floor
UID:e.155.1936
SEQUENCE:3
DTSTAMP:20260422T120832Z
URL:https://business.tomballchamber.org/events/details/ambassador-meeting-04-03-2007-1936
END:VEVENT

END:VCALENDAR
