BEGIN:VCALENDAR
VERSION:2.0
PRODID:-//ChamberMaster//Event Calendar 2.0//EN
METHOD:PUBLISH
X-PUBLISHED-TTL:P3D
REFRESH-INTERVAL:P3D
CALSCALE:GREGORIAN
BEGIN:VEVENT
DTSTART:20080304T180000Z
DTEND:20080304T190000Z
X-MICROSOFT-CDO-ALLDAYEVENT:FALSE
SUMMARY:Ambassador Meeting
DESCRIPTION:Greater Tomball Area Chamber of CommerceAmbassador Elite Club MeetingNoon - Bring your lunch
X-ALT-DESC;FMTTYPE=text/html:<div>Greater Tomball Area Chamber of Commerce</div><div>Ambassador Elite Club Meeting</div><div>Noon - Bring your lunch</div>
LOCATION:Chamber Board Room - 2 nd Floor14011 Park Drive\, Suite 111
UID:e.155.2426
SEQUENCE:3
DTSTAMP:20260421T164827Z
URL:https://business.tomballchamber.org/events/details/ambassador-meeting-03-04-2008-2426
END:VEVENT

END:VCALENDAR
