BEGIN:VCALENDAR
VERSION:2.0
PRODID:-//ChamberMaster//Event Calendar 2.0//EN
METHOD:PUBLISH
X-PUBLISHED-TTL:P3D
REFRESH-INTERVAL:P3D
CALSCALE:GREGORIAN
BEGIN:VEVENT
DTSTART:20070811T190000Z
DTEND:20070811T210000Z
X-MICROSOFT-CDO-ALLDAYEVENT:FALSE
SUMMARY:Air Force Band of the West
DESCRIPTION:Presenting the Concert Band from Air Force Band of the West. Hosted by The Regional Arts Council at Salem Lutheran Church. The USAF Band of the West has a long lineage in the United States Air Force.\n\nThe USAF Band of the West travels more than 125\,000 miles annually and provides over 300 performances to military and civilian audiences throughout Texas\, Arizona\, New Mexico\, and Louisiana. The band has been an integral part of the music scene in the Southwest for many years. The organization is made up of ensembles such as the Concert Band\, Ceremonial/Marching Band\, Dimensions in Blue jazz ensemble\, two popular music groups\, Warhawk and Top Flight. Satellite groups within the unit include Gateway Brass\, Southwest Winds\, protocol\ncombos\, and Lone Star Ramblers dixieland jazz band. This diversity enables the USAF Band of the West to perform practically any style of music from classical and country to marches and mambos.
X-ALT-DESC;FMTTYPE=text/html:Presenting the Concert Band from Air Force Band of the West. Hosted by The Regional Arts Council at Salem Lutheran Church. The USAF Band of the West has a long lineage in the United States Air Force.\n\nThe USAF Band of the West travels more than 125\,000 miles annually and provides over 300 performances to military and civilian audiences throughout Texas\, Arizona\, New Mexico\, and Louisiana. The band has been an integral part of the music scene in the Southwest for many years. The organization is made up of ensembles such as the Concert Band\, Ceremonial/Marching Band\, Dimensions in Blue jazz ensemble\, two popular music groups\, Warhawk and Top Flight. Satellite groups within the unit include Gateway Brass\, Southwest Winds\, protocol\ncombos\, and Lone Star Ramblers dixieland jazz band. This diversity enables the USAF Band of the West to perform practically any style of music from classical and country to marches and mambos.
LOCATION:Salem Lutheran Church
UID:e.155.2300
SEQUENCE:3
DTSTAMP:20260422T060814Z
URL:https://business.tomballchamber.org/events/details/air-force-band-of-the-west-08-11-2007-2300
END:VEVENT

END:VCALENDAR
