BEGIN:VCALENDAR
VERSION:2.0
PRODID:-//ChamberMaster//Event Calendar 2.0//EN
METHOD:PUBLISH
X-PUBLISHED-TTL:P3D
REFRESH-INTERVAL:P3D
CALSCALE:GREGORIAN
BEGIN:VEVENT
DTSTART:20080205T210000Z
DTEND:20080205T230000Z
X-MICROSOFT-CDO-ALLDAYEVENT:FALSE
SUMMARY:Afternoon Book Discussion Group
DESCRIPTION:Group will review Ann Patchett's Bel Canto - an award winning story of terrorism and opera set in South America. Meeting in Room L212 at Tomball Community Library at 3pm.  Newcomers welcome - light refreshments to be served.
X-ALT-DESC;FMTTYPE=text/html:Group will review Ann Patchett's Bel Canto - an award winning story of terrorism and opera set in South America. Meeting in Room L212 at Tomball Community Library at 3pm.  Newcomers welcome - light refreshments to be served. 
LOCATION:Tomball Community Library - Room L212
UID:e.155.2393
SEQUENCE:3
DTSTAMP:20260421T182510Z
URL:https://business.tomballchamber.org/events/details/afternoon-book-discussion-group-02-05-2008-2393
END:VEVENT

END:VCALENDAR
