BEGIN:VCALENDAR
VERSION:2.0
PRODID:-//ChamberMaster//Event Calendar 2.0//EN
METHOD:PUBLISH
X-PUBLISHED-TTL:P3D
REFRESH-INTERVAL:P3D
CALSCALE:GREGORIAN
BEGIN:VEVENT
DTSTART:20070501T200000Z
DTEND:20070501T220000Z
X-MICROSOFT-CDO-ALLDAYEVENT:FALSE
SUMMARY:Afternoon Book Discussion
DESCRIPTION:This month\, the Tomball College & Community Library's afternoon book discussion group will discuss The Big Read book selection\, Amy Tan?s  The Joy Luck Club.  The novel follows the lives of four Chinese women and their American-born daughters as they navigate their past\, culture\, and relationships with each other.  Light refreshments will be served.
X-ALT-DESC;FMTTYPE=text/html:This month\, the Tomball College & Community Library's afternoon book discussion group will discuss The Big Read book selection\, Amy Tan?s  The Joy Luck Club.  The novel follows the lives of four Chinese women and their American-born daughters as they navigate their past\, culture\, and relationships with each other.  Light refreshments will be served.
LOCATION:Second floor conference room of the Tomball College & Community Library\, 30555 Tomball Pkwy.
UID:e.155.2209
SEQUENCE:3
DTSTAMP:20260422T091151Z
URL:https://business.tomballchamber.org/events/details/afternoon-book-discussion-05-01-2007-2209
END:VEVENT

END:VCALENDAR
