BEGIN:VCALENDAR
VERSION:2.0
PRODID:-//ChamberMaster//Event Calendar 2.0//EN
METHOD:PUBLISH
X-PUBLISHED-TTL:P3D
REFRESH-INTERVAL:P3D
CALSCALE:GREGORIAN
BEGIN:VEVENT
DTSTART;VALUE=DATE:20070403
DTEND;VALUE=DATE:20070404
TRANSP:TRANSPARENT
X-MICROSOFT-CDO-ALLDAYEVENT:TRUE
SUMMARY:Afternoon Book Discussion
DESCRIPTION:This month\, the afternoon book discussion of the Tomball College & Community Library will discuss Lionel Shriver?s  We Need to Talk About Kevin.  The motivations of a teenage mass murderer are explored through his mother?s reminisces.  Light refreshments will be served.  2nd floor Conference Room L212.
X-ALT-DESC;FMTTYPE=text/html:This month\, the afternoon book discussion of the Tomball College & Community Library will discuss Lionel Shriver?s  We Need to Talk About Kevin.  The motivations of a teenage mass murderer are explored through his mother?s reminisces.  Light refreshments will be served.  2nd floor Conference Room L212.
LOCATION:Tomball College & Community Library 30555 Tomball Pkwy.
UID:e.155.1657
SEQUENCE:3
DTSTAMP:20260422T104428Z
URL:https://business.tomballchamber.org/events/details/afternoon-book-discussion-04-03-2007-1657
END:VEVENT

END:VCALENDAR
